BEGIN:VCALENDAR
VERSION:2.0
PRODID:-//Super Show//EVENT 1.0//EN
METHOD:PUBLISH
BEGIN:VEVENT
SUMMARY:AUDITIONS for BOOKWORMS
UID:700e8d84d4ffef803ee1b28105b7e14c
SEQUENCE:0
DTSTART:20260218T190000
DTEND:20260218T190000
ORGANIZER;CN=Tullamore Amateur Dramatic Society (T.A.D.S.):MAILTO:tads4all@gmail.com
LOCATION:Esker Arts, High Street, Tullamore, Offaly, Ireland
DTSTAMP:20260421T120137
DESCRIPTION:<p>Casting / Auditions for Bookworms</p>
URL:https://www.tullamoredrama.ie/events/auditions-for-bookworms
END:VEVENT
END:VCALENDAR