BEGIN:VCALENDAR
VERSION:2.0
PRODID:-//Super Show//EVENT 1.0//EN
METHOD:PUBLISH
BEGIN:VEVENT
SUMMARY:BOOKWORMS
UID:8b2cdafa4b0eea94c60eb25434f755f3
SEQUENCE:0
DTSTART:20260513T200000
DTEND:20260516T200000
ORGANIZER;CN=Tullamore Amateur Dramatic Society (T.A.D.S.):MAILTO:tads4all@gmail.com
LOCATION:
DTSTAMP:20260421T102415
DESCRIPTION:
URL:https://www.tullamoredrama.ie/events/bookworms
END:VEVENT
END:VCALENDAR